BEGIN:VCALENDAR
VERSION:2.0
PRODID:-//eventon.com NONSGML v1.0//EN
BEGIN:VEVENT
UID:69e7346090ad1
DTSTAMP:20260421T102504
DTSTART:20220614T090000Z
DTEND:20220614T110000Z
TZID:CET
LOCATION:
SUMMARY:Svoga zdravlja gospodar
DESCRIPTION: Dragi umirovljenici\,  danas u Domu za starije osobe Trnje u okviru EU projekta &#8220;Tko se boji godina još?&#8221; održavamo radionice pod nazivom &#8220;Svoga zdravlja gospodar&#8221;\,  s temom nutricionizma\,  o očuvanju zdravlja i prevenciji bolesti kod osoba starije životne dobi. Projekt je sufinanciran sredstvima Europskog socijalnog fonda. Radujemo se vašem dolasku.[..]
URL:https://matica-umirovljenika-trnje.eu/events/svoga-zdravlja-gospodar-11/
END:VEVENT
END:VCALENDAR