BEGIN:VCALENDAR
VERSION:2.0
PRODID:-//eventon.com NONSGML v1.0//EN
BEGIN:VEVENT
UID:69e736b39755e
DTSTAMP:20260421T103459
DTSTART:20220413T090000Z
DTEND:20220413T110000Z
TZID:CET
LOCATION:
SUMMARY:Vježbenička tvrtka
DESCRIPTION: Dragi umirovljenici\,  i ove se srijede u okviru EU projekta &#8220;Tko se boji godina još?&#8221;\,  u prostoru Mjesnog odbora Cvjetno naselje\,  Aleja Vlade Antolića 2\,  Zagreb\,  održavaju radionice međugeneracijske suradnje pod nazivom Vježbenička tvrtka. Na radionicama ćemo sa učenicima Prve ekonomske škole iz Zagreba\,  uz vodstvo njihove profesorice\,  obrađivati razne[..]
URL:https://matica-umirovljenika-trnje.eu/events/vjezbenicka-tvrtka-8/
END:VEVENT
END:VCALENDAR