BEGIN:VCALENDAR
VERSION:2.0
PRODID:-//eventon.com NONSGML v1.0//EN
BEGIN:VEVENT
UID:69e7368472342
DTSTAMP:20260421T103412
DTSTART:20210519T100000Z
DTEND:20210519T110000Z
TZID:CET
LOCATION:
SUMMARY:Tko pleše\,  zlo ne misli
DESCRIPTION: Srijeda je dan za vježbanje u parku na Sigečici. Sadržaj materijala isključiva je odgovornost Matice umirovljenika Trnje &#8211; Zagreb.
URL:https://matica-umirovljenika-trnje.eu/events/tko-plese-zlo-ne-misli-28/
END:VEVENT
END:VCALENDAR