BEGIN:VCALENDAR
VERSION:2.0
PRODID:-//eventon.com NONSGML v1.0//EN
BEGIN:VEVENT
UID:69e739e9c8cc2
DTSTAMP:20260421T104841
DTSTART:20231207T100000Z
DTEND:20231207T110000Z
TZID:CET
LOCATION:
SUMMARY:Vježbanje u Domu za starije osobe Trnje
DESCRIPTION: Dragi umirovljenici\,  i ovoga četvrtka Matica umirovljenika Trnje &#8211; Zagreb organizira vježbanje u Domu za starije osobe Trnje\,  Poljička ulica 12. Vježbanje se odvija pod stručnim vodstvom predsjednice Matice umirovljenika Trnje &#8211; Zagreb\,  dr. sc. Marijane Ljubić. Pridružite nam se\,  vježbajte s nama i budite zdravi i veseli. Radujemo se[..]
URL:https://matica-umirovljenika-trnje.eu/events/vjezbanje-u-domu-za-starije-osobe-trnje-52/
END:VEVENT
END:VCALENDAR